BEGIN:VCALENDAR
VERSION:2.0
PRODID:-//Les Plongeurs du Donjon//NONSGML kigkonsult.se iCalcreator 2.41.92//
CALSCALE:GREGORIAN
METHOD:PUBLISH
UID:30396461-6665-4165-a363-393031303830
X-WR-CALNAME:iCagenda
X-WR-CALDESC:Event Management Extension for Joomla!
X-WR-RELCALID:3E26604A-50F4-4449-8B3E-E4F4932D05B5
X-WR-TIMEZONE:Europe/Paris
BEGIN:VTIMEZONE
TZID:Europe/Paris
TZUNTIL:20241027T010000Z
BEGIN:STANDARD
TZNAME:CET
DTSTART:20211031T030000
TZOFFSETFROM:+0200
TZOFFSETTO:+0100
RDATE:20221030T030000
RDATE:20231029T030000
END:STANDARD
BEGIN:DAYLIGHT
TZNAME:CEST
DTSTART:20220327T020000
TZOFFSETFROM:+0100
TZOFFSETTO:+0200
RDATE:20230326T020000
RDATE:20240331T020000
END:DAYLIGHT
END:VTIMEZONE
BEGIN:VEVENT
UID:36353863-3532-4164-a636-656638356237
DTSTAMP:20260421T054843Z
CATEGORIES:REUNION
CLASS:PUBLIC
DESCRIPTION:
DTSTART:20221018T180000Z
DTEND:20221018T180000Z
GEO:00;0
LOCATION:
ORGANIZER:
SEQUENCE:1
SUMMARY:FORMATION GONFLAGE
TRANSP:OPAQUE
URL:https://plongeurs-du-donjon.fr/component/icagenda/217-formation-gonflag
 e/2022-10-18-20-00
END:VEVENT
END:VCALENDAR
