BEGIN:VCALENDAR
VERSION:2.0
PRODID:-//Les Plongeurs du Donjon//NONSGML kigkonsult.se iCalcreator 2.41.92//
CALSCALE:GREGORIAN
METHOD:PUBLISH
UID:66316563-3539-4163-a233-333036663764
X-WR-CALNAME:iCagenda
X-WR-CALDESC:Event Management Extension for Joomla!
X-WR-RELCALID:3E26604A-50F4-4449-8B3E-E4F4932D05B5
X-WR-TIMEZONE:Europe/Paris
BEGIN:VTIMEZONE
TZID:Europe/Paris
TZUNTIL:20231029T010000Z
BEGIN:STANDARD
TZNAME:CET
DTSTART:20211031T030000
TZOFFSETFROM:+0200
TZOFFSETTO:+0100
RDATE:20221030T030000
END:STANDARD
BEGIN:DAYLIGHT
TZNAME:CEST
DTSTART:20210328T020000
TZOFFSETFROM:+0100
TZOFFSETTO:+0200
RDATE:20220327T020000
RDATE:20230326T020000
END:DAYLIGHT
END:VTIMEZONE
BEGIN:VEVENT
UID:64633137-3236-4062-b563-653934653035
DTSTAMP:20260421T085156Z
CATEGORIES:ENTRAINEMENT PLONGEE N1
CLASS:PUBLIC
DESCRIPTION;ALTREP="CID:<FFFF__=0ABBE548DFE235B58f9e8a93d@coffeebean.com>":
 Séance PMT pour le groupe Préparation Niveau 1
DTSTART:20220125T200000Z
DTEND:20220125T200000Z
GEO:00;0
LOCATION:Piscine de Sainte Geneviève des bois
ORGANIZER:
SEQUENCE:1
SUMMARY:GROUPE N1 : PMT
TRANSP:OPAQUE
URL:https://plongeurs-du-donjon.fr/component/icagenda/19-groupe-n1-pmt/2022
 -01-25-21-00?Itemid=509
END:VEVENT
END:VCALENDAR
